BEGIN:VCALENDAR
VERSION:2.0
PRODID:-//British Cider Week - ECPv6.15.20//NONSGML v1.0//EN
CALSCALE:GREGORIAN
METHOD:PUBLISH
X-WR-CALNAME:British Cider Week
X-ORIGINAL-URL:https://britishciderweek.org.uk
X-WR-CALDESC:Events for British Cider Week
REFRESH-INTERVAL;VALUE=DURATION:PT1H
X-Robots-Tag:noindex
X-PUBLISHED-TTL:PT1H
BEGIN:VTIMEZONE
TZID:Europe/London
BEGIN:DAYLIGHT
TZOFFSETFROM:+0000
TZOFFSETTO:+0100
TZNAME:BST
DTSTART:20250330T010000
END:DAYLIGHT
BEGIN:STANDARD
TZOFFSETFROM:+0100
TZOFFSETTO:+0000
TZNAME:GMT
DTSTART:20251026T010000
END:STANDARD
BEGIN:DAYLIGHT
TZOFFSETFROM:+0000
TZOFFSETTO:+0100
TZNAME:BST
DTSTART:20260329T010000
END:DAYLIGHT
BEGIN:STANDARD
TZOFFSETFROM:+0100
TZOFFSETTO:+0000
TZNAME:GMT
DTSTART:20261025T010000
END:STANDARD
BEGIN:DAYLIGHT
TZOFFSETFROM:+0000
TZOFFSETTO:+0100
TZNAME:BST
DTSTART:20270328T010000
END:DAYLIGHT
BEGIN:STANDARD
TZOFFSETFROM:+0100
TZOFFSETTO:+0000
TZNAME:GMT
DTSTART:20271031T010000
END:STANDARD
END:VTIMEZONE
BEGIN:VEVENT
DTSTART;VALUE=DATE:20260424
DTEND;VALUE=DATE:20260425
DTSTAMP:20260424T183433
CREATED:20260417T114411Z
LAST-MODIFIED:20260421T112404Z
UID:10002927-1776988800-1777075199@britishciderweek.org.uk
SUMMARY:British Cider Week: Pop!
DESCRIPTION:Free entry over British Cider Week!\n\nQuote ‘Cider26’ to the front of house team upon entry for free entry to the museum and new temporary exhibition POP! \nJoin us between the 14th March and 23rd August and discover the power of pop in a new temporary exhibition.\n\nPOP! Putting the Sparkle into Cider\, explores how your favourite drinks get their fizz and the innovations that paved the way for the drinks we enjoy today\, from cider to champagne.\n\nThere will be a range of objects on display from the Museum’s collections\, illustrating the history and science of sparkling drinks.\n\nSo\, do you prefer your drinks flat\, or with a little bit of sparkle?
URL:https://britishciderweek.org.uk/event/british-cider-week-the-fizz-challenge/2026-04-24/
LOCATION:Hereford Cider Museum\, Pomona Pl\, Hereford\, HR4 0EF\, United Kingdom
ATTACH;FMTTYPE=image/png:https://britishciderweek.org.uk/wp-content/uploads/2026/04/FB-post.png
GEO:52.0553665;-2.7259773
X-APPLE-STRUCTURED-LOCATION;VALUE=URI;X-ADDRESS=Hereford Cider Museum Pomona Pl Hereford HR4 0EF United Kingdom;X-APPLE-RADIUS=500;X-TITLE=Pomona Pl:geo:-2.7259773,52.0553665
END:VEVENT
BEGIN:VEVENT
DTSTART;VALUE=DATE:20260424
DTEND;VALUE=DATE:20260426
DTSTAMP:20260424T183433
CREATED:20260417T103018Z
LAST-MODIFIED:20260417T103134Z
UID:10002914-1776988800-1777161599@britishciderweek.org.uk
SUMMARY:Rattler Fest
DESCRIPTION:Welcome to the 6th annual RATTLER FEST\, an adult-only two-day celebration of all things Rattler! \nBringing you 2 days of live music on the Rattler Main Stage\, PLUS Apres Ski Lodge Sessions\, Mr & Mrs Rattler Competition\, Cheesyoke\, Yodelling Competitions & Celebrity DJs! We also have the Orchard Silent Disco\, Pineapple Beach and everyone’s favourite – The Rattler Olympics! \nRattler Fest 2026 is strictly an over 18s event. \nPlease note we will be providing a separate area for Campervans and motorhomes. pitch sizes will be marked and strictly monitored\, remember that maximum pitch sizes must include all awnings and similar structures. Any festival goers whose campervan or motorhome exceeds the pitch size stated on their ticket they WILL have to purchase an additional ticket. In addition\, tents are not permitted in the motorhome or campervan fields.
URL:https://britishciderweek.org.uk/event/rattler-fest/
LOCATION:Healeys Cornish Cyder Farm\, Penhallow\, Cornwall\, TR4 9LT\, United Kingdom
ATTACH;FMTTYPE=image/png:https://britishciderweek.org.uk/wp-content/uploads/2026/04/RattlerFest.png
ORGANIZER;CN="Healeys Cornish Cyder":MAILTO:brandmanager@healeyscyder.co.uk
GEO:50.317803;-5.137277
X-APPLE-STRUCTURED-LOCATION;VALUE=URI;X-ADDRESS=Healeys Cornish Cyder Farm Penhallow Cornwall TR4 9LT United Kingdom;X-APPLE-RADIUS=500;X-TITLE=Penhallow:geo:-5.137277,50.317803
END:VEVENT
BEGIN:VEVENT
DTSTART;TZID=Europe/London:20260424T110000
DTEND;TZID=Europe/London:20260424T130000
DTSTAMP:20260424T183433
CREATED:20260409T141017Z
LAST-MODIFIED:20260409T141017Z
UID:10002513-1777028400-1777035600@britishciderweek.org.uk
SUMMARY:Blossom Tour & Cider Tasting
DESCRIPTION:Join us for a fun and informative guided walk around the main orchard in the beautiful blossom. The tour includes a look at our press and outline of the process of cider making\, from growing the apples through to the final product. Following the tour\, there will be a tasting and notetaking session\, you will be able to compare the complexities of a range of our ciders\, plus enjoy a slice of our delicious homemade apple cake. \nTours available at 11am every day until 24 May. \n\nTours and tasting sessions last approximately 2 hours.\nSome gentle walking.\nPlease no dogs as we are a working livestock and cider farm.
URL:https://britishciderweek.org.uk/event/blossom-tour-cider-tasting/2026-04-24/
LOCATION:Purbeck Cider\, Dorset Cider Farm\, Lower Bushey Farm\, Corfe Castle\, Wareham\, Dorset\, BH20 5JP\, United Kingdom
ATTACH;FMTTYPE=image/jpeg:https://britishciderweek.org.uk/wp-content/uploads/2026/04/Purbeck-Cider-IMG_7380-scaled.jpg
ORGANIZER;CN="Purbeck Cider":MAILTO:kate@purbeckcidercompany.co.uk
GEO:50.6500838;-2.0398249
X-APPLE-STRUCTURED-LOCATION;VALUE=URI;X-ADDRESS=Purbeck Cider Dorset Cider Farm Lower Bushey Farm Corfe Castle Wareham Dorset BH20 5JP United Kingdom;X-APPLE-RADIUS=500;X-TITLE=Dorset Cider Farm\, Lower Bushey Farm\, Corfe Castle:geo:-2.0398249,50.6500838
END:VEVENT
BEGIN:VEVENT
DTSTART;TZID=Europe/London:20260424T110000
DTEND;TZID=Europe/London:20260424T143000
DTSTAMP:20260424T183433
CREATED:20260423T172211Z
LAST-MODIFIED:20260423T180820Z
UID:10003319-1777028400-1777041000@britishciderweek.org.uk
SUMMARY:British Cider Week at Oakchurch Farm Shop
DESCRIPTION:Across the week\, we’ll be joined by cider makers each day\, with plenty of opportunities to try something new including new product launches and special offers. \nFrom well-loved favourites to exciting local producers\, it’s the perfect time to discover your next go-to cider. \nPlus\, on Friday 24 April\, enjoy food tastings alongside your cider from Drinks Bakery\, Joe & Seph’s and Olly’s Pretzels. \nPop in and celebrate the best of Herefordshire cider with us.
URL:https://britishciderweek.org.uk/event/british-cider-week-at-oakchurch-farm-shop/2026-04-24/
LOCATION:Oakchurch Farm Shop\, Brecon Road\, Staunton on Wye\, Herefordshire\, HR4 7NH\, United Kingdom
ATTACH;FMTTYPE=image/jpeg:https://britishciderweek.org.uk/wp-content/uploads/2026/04/Oakchurch.jpg
ORGANIZER;CN="Oakchurch Farm Shop":MAILTO:enquiries@oakchurch.net
GEO:52.095945773392;-2.9112761875864
X-APPLE-STRUCTURED-LOCATION;VALUE=URI;X-ADDRESS=Oakchurch Farm Shop Brecon Road Staunton on Wye Herefordshire HR4 7NH United Kingdom;X-APPLE-RADIUS=500;X-TITLE=Brecon Road:geo:-2.9112761875864,52.095945773392
END:VEVENT
BEGIN:VEVENT
DTSTART;TZID=Europe/London:20260424T110000
DTEND;TZID=Europe/London:20260424T230000
DTSTAMP:20260424T183433
CREATED:20260417T105831Z
LAST-MODIFIED:20260417T110457Z
UID:10002915-1777028400-1777071600@britishciderweek.org.uk
SUMMARY:CAMRA Chippenham Beer\, Cider and Perry Festival
DESCRIPTION:The 33rd North West Wilts 2026 Chippenham CAMRA Beer\, Cider and Perry festival at the Olympiad Leisure Centre\, Chippenham\, Wiltshire\, SN15 3PA\, \nThe festival will be held over 3 sessions on the Friday 24th April 2026 and the Saturday 25th April 2026\, We will have great hog and lamb roasts along with burgers and plenty of beer\, cider and perry. On both the Saturday sessions we will have live acoustic music by the wonderful Stu Joslin. \n\n\nCAMRA member pricing: Members pay £9 for the Friday or Saturday afternoon sessions\, or £6 for the Saturday evening session. This is to cover your programme\, glass and £5 worth of tokens\, there is no entry charge for CAMRA members. \nNon-member Pricing: Non-members pay £15 for the Friday or Saturday afternoon sessions\, or £12 for the Saturday evening session. This is to cover your entry to the beer festival\, programme\, glass and £5 worth of tokens. \nNOTE: For both members and non-members\, entry is only via tickets obtained through CAMRA’s online system\, Tckty\, see below. \nIf you are not already a member\, why not join now before buying your tickets to gain free entry to this and all other CAMRA beer festivals? You can join CAMRA online here: https://join.camra.org.uk/join/camra \nOr if you are ready to buy tickets now\, click here for Tckty: Chippenham 2026 Beer Festival Ticket Sales \nDates and Times of Sessions:\nFriday 24th April: 5:30pm – 11:00pm\nSaturday 25th April: 11:00am – 4:00pm\nSaturday 25th April: 7:30pm-11:00pm \nFurther Details:\nFresh food cooked on site.\nLive music Saturday lunchtime & Saturday evening.
URL:https://britishciderweek.org.uk/event/camra-chippenham-beer-cider-and-perry-festival/2026-04-24/
LOCATION:Olympiad Leisure Centre\, Sadlers Mead\, Chippenham\, Wiltshire\, SN15 3PA\, United Kingdom
ATTACH;FMTTYPE=image/png:https://britishciderweek.org.uk/wp-content/uploads/2026/04/CAMRA.png
GEO:51.461283399677;-2.1137747876053
X-APPLE-STRUCTURED-LOCATION;VALUE=URI;X-ADDRESS=Olympiad Leisure Centre Sadlers Mead Chippenham Wiltshire SN15 3PA United Kingdom;X-APPLE-RADIUS=500;X-TITLE=Sadlers Mead:geo:-2.1137747876053,51.461283399677
END:VEVENT
BEGIN:VEVENT
DTSTART;TZID=Europe/London:20260424T153000
DTEND;TZID=Europe/London:20260424T200000
DTSTAMP:20260424T183433
CREATED:20260417T101822Z
LAST-MODIFIED:20260417T101822Z
UID:10002911-1777044600-1777060800@britishciderweek.org.uk
SUMMARY:Pizza Friday
DESCRIPTION:Join us for a relaxed evening of freshly made stone-baked pizzas\, delicious sides\, and homemade desserts — the perfect way to unwind with family and friends at the end of the week. \nEven better news — kids eat free before 6pm! For every full-sized pizza purchased\, children under 12 can enjoy a free small pizza. \nEach week you’ll find: \n\n\nYour favourite pizzas on the menu \n\n\nExciting specials \n\n\nScrummy sides and dips \n\n\nHomemade desserts \n\n\nPair your pizza with chilled cider\, wine\, Heartsease soft drinks\, or our own apple juice from the farm. \nOur seasonal Pizza Fridays return from Friday 27th March\, with the pizza oven fired up and serving from 3:30pm – 8pm every Friday.
URL:https://britishciderweek.org.uk/event/pizza-friday/2026-04-24/
LOCATION:Newton Court Cider\, Newton\, Leominster\, Herefordshire\, HR6 0PF\, United Kingdom
ATTACH;FMTTYPE=image/jpeg:https://britishciderweek.org.uk/wp-content/uploads/2026/04/Newton-Court-Pizza.jpeg
ORGANIZER;CN="Newton Court Cider":MAILTO:hello@newtoncourt.uk
GEO:52.182009220667;-2.7256467460268
X-APPLE-STRUCTURED-LOCATION;VALUE=URI;X-ADDRESS=Newton Court Cider Newton Leominster Herefordshire HR6 0PF United Kingdom;X-APPLE-RADIUS=500;X-TITLE=Newton:geo:-2.7256467460268,52.182009220667
END:VEVENT
BEGIN:VEVENT
DTSTART;TZID=Europe/London:20260424T160000
DTEND;TZID=Europe/London:20260424T220000
DTSTAMP:20260424T183433
CREATED:20260311T135519Z
LAST-MODIFIED:20260311T135604Z
UID:10002090-1777046400-1777068000@britishciderweek.org.uk
SUMMARY:Harry's Pizza Night
DESCRIPTION:With Ethic Street Pizza and music from Stevie Nichole Brown
URL:https://britishciderweek.org.uk/event/harrys-pizza-night/
LOCATION:Harry’s Cider\, Littlefield Ln\, Long Sutton\, Langport\, Somerset\, TA10 9NS\, United Kingdom
ATTACH;FMTTYPE=image/jpeg:https://britishciderweek.org.uk/wp-content/uploads/2026/03/Harrys-Cider.jpg
ORGANIZER;CN="Harry's Cider":MAILTO:events@harryscidercompany.co.uk
GEO:51.0300865;-2.7674486
X-APPLE-STRUCTURED-LOCATION;VALUE=URI;X-ADDRESS=Harry’s Cider Littlefield Ln Long Sutton Langport Somerset TA10 9NS United Kingdom;X-APPLE-RADIUS=500;X-TITLE=Littlefield Ln\, Long Sutton:geo:-2.7674486,51.0300865
END:VEVENT
BEGIN:VEVENT
DTSTART;TZID=Europe/London:20260424T160000
DTEND;TZID=Europe/London:20260424T230000
DTSTAMP:20260424T183433
CREATED:20260414T123505Z
LAST-MODIFIED:20260414T123505Z
UID:10002904-1777046400-1777071600@britishciderweek.org.uk
SUMMARY:Tap Room and Pizza Night
DESCRIPTION:We’re thrilled to throw open the doors to The Cider Works every Friday and Saturday evening. Join us in the tap room bar with seating inside and out (weather dependent) and enjoy a stone baked pizza too. \nTap Room \nFully licensed bar selling beers\, wine\, soft drinks and all of our ciders. \n4pm until 11pm every Friday and Saturday. \nPizza (eat in or take away) \n4pm until sold out every Friday and Saturday. Last orders at 8:30pm. \nWe can take bookings for tables of 6 or more.\nTo make a booking call: 07938 700 732 or email Emma: events@sandfordorchards.co.uk
URL:https://britishciderweek.org.uk/event/tap-room-and-pizza-night/2026-04-24/
LOCATION:Sandford Orchards\, The Ciderworks\, Commonmarsh Lane\, Crediton\, Devon\, EX17 1HU\, United Kingdom
ATTACH;FMTTYPE=image/png:https://britishciderweek.org.uk/wp-content/uploads/2026/04/Sandford-Orchard-Pizza.png
GEO:50.7895791;-3.6411688
X-APPLE-STRUCTURED-LOCATION;VALUE=URI;X-ADDRESS=Sandford Orchards The Ciderworks Commonmarsh Lane Crediton Devon EX17 1HU United Kingdom;X-APPLE-RADIUS=500;X-TITLE=The Ciderworks\, Commonmarsh Lane:geo:-3.6411688,50.7895791
END:VEVENT
BEGIN:VEVENT
DTSTART;TZID=Europe/London:20260424T180000
DTEND;TZID=Europe/London:20260424T213000
DTSTAMP:20260424T183433
CREATED:20260218T130426Z
LAST-MODIFIED:20260218T133221Z
UID:10002079-1777053600-1777066200@britishciderweek.org.uk
SUMMARY:Sheppy's Master of Cider Tour and Supper
DESCRIPTION:As part of British Cider Week – a new initiative led by the National Association of Cider Makers (NACM) which is a campaign designed to encourage consumers to explore the diversity of ciders produced in the UK – David Sheppy is inviting guests to join him on a guided tour and tasting on the cider farm. \nDuring the tour you will visit to our orchards\, before showing you one of our vat houses\, and then our press house. \nYour tour will finish off with a fully tutored tasting of a selection of Sheppy’s award- winning Somerset ciders chosen by David. The evening will continue with a Q&A session asking David questions about his time in the cider business. \nTicket includes a sharing supper.
URL:https://britishciderweek.org.uk/event/sheppys-master-of-cider-tour-and-supper/
LOCATION:Sheppys House of Cider\, Three Bridges\, Bradford-on-Tone\, Taunton\, Somerset\, TA4 1ER\, United Kingdom
ATTACH;FMTTYPE=image/jpeg:https://britishciderweek.org.uk/wp-content/uploads/2023/03/sheppey-master-of-cider.jpg
ORGANIZER;CN="Sheppy's Cider":MAILTO:sarahr@sheppyscider.com
GEO:50.9934288;-3.174548
X-APPLE-STRUCTURED-LOCATION;VALUE=URI;X-ADDRESS=Sheppys House of Cider Three Bridges Bradford-on-Tone Taunton Somerset TA4 1ER United Kingdom;X-APPLE-RADIUS=500;X-TITLE=Three Bridges\, Bradford-on-Tone:geo:-3.174548,50.9934288
END:VEVENT
END:VCALENDAR