BEGIN:VCALENDAR
VERSION:2.0
PRODID:-//British Cider Week - ECPv6.15.20//NONSGML v1.0//EN
CALSCALE:GREGORIAN
METHOD:PUBLISH
X-ORIGINAL-URL:https://britishciderweek.org.uk
X-WR-CALDESC:Events for British Cider Week
REFRESH-INTERVAL;VALUE=DURATION:PT1H
X-Robots-Tag:noindex
X-PUBLISHED-TTL:PT1H
BEGIN:VTIMEZONE
TZID:Europe/London
BEGIN:DAYLIGHT
TZOFFSETFROM:+0000
TZOFFSETTO:+0100
TZNAME:BST
DTSTART:20250330T010000
END:DAYLIGHT
BEGIN:STANDARD
TZOFFSETFROM:+0100
TZOFFSETTO:+0000
TZNAME:GMT
DTSTART:20251026T010000
END:STANDARD
BEGIN:DAYLIGHT
TZOFFSETFROM:+0000
TZOFFSETTO:+0100
TZNAME:BST
DTSTART:20260329T010000
END:DAYLIGHT
BEGIN:STANDARD
TZOFFSETFROM:+0100
TZOFFSETTO:+0000
TZNAME:GMT
DTSTART:20261025T010000
END:STANDARD
BEGIN:DAYLIGHT
TZOFFSETFROM:+0000
TZOFFSETTO:+0100
TZNAME:BST
DTSTART:20270328T010000
END:DAYLIGHT
BEGIN:STANDARD
TZOFFSETFROM:+0100
TZOFFSETTO:+0000
TZNAME:GMT
DTSTART:20271031T010000
END:STANDARD
END:VTIMEZONE
BEGIN:VEVENT
DTSTART;TZID=Europe/London:20260508T153000
DTEND;TZID=Europe/London:20260508T200000
DTSTAMP:20260424T143325
CREATED:20260417T101822Z
LAST-MODIFIED:20260417T101822Z
UID:10002913-1778254200-1778270400@britishciderweek.org.uk
SUMMARY:Pizza Friday
DESCRIPTION:Join us for a relaxed evening of freshly made stone-baked pizzas\, delicious sides\, and homemade desserts — the perfect way to unwind with family and friends at the end of the week. \nEven better news — kids eat free before 6pm! For every full-sized pizza purchased\, children under 12 can enjoy a free small pizza. \nEach week you’ll find: \n\n\nYour favourite pizzas on the menu \n\n\nExciting specials \n\n\nScrummy sides and dips \n\n\nHomemade desserts \n\n\nPair your pizza with chilled cider\, wine\, Heartsease soft drinks\, or our own apple juice from the farm. \nOur seasonal Pizza Fridays return from Friday 27th March\, with the pizza oven fired up and serving from 3:30pm – 8pm every Friday.
URL:https://britishciderweek.org.uk/event/pizza-friday/2026-05-08/
LOCATION:Newton Court Cider\, Newton\, Leominster\, Herefordshire\, HR6 0PF\, United Kingdom
ATTACH;FMTTYPE=image/jpeg:https://britishciderweek.org.uk/wp-content/uploads/2026/04/Newton-Court-Pizza.jpeg
ORGANIZER;CN="Newton Court Cider":MAILTO:hello@newtoncourt.uk
GEO:52.182009220667;-2.7256467460268
X-APPLE-STRUCTURED-LOCATION;VALUE=URI;X-ADDRESS=Newton Court Cider Newton Leominster Herefordshire HR6 0PF United Kingdom;X-APPLE-RADIUS=500;X-TITLE=Newton:geo:-2.7256467460268,52.182009220667
END:VEVENT
BEGIN:VEVENT
DTSTART;TZID=Europe/London:20260508T190000
DTEND;TZID=Europe/London:20260508T213000
DTSTAMP:20260424T143325
CREATED:20260407T101800Z
LAST-MODIFIED:20260407T101800Z
UID:10002109-1778266800-1778275800@britishciderweek.org.uk
SUMMARY:Blossom Feast
DESCRIPTION:Join us for a cider pairing menu! This feast night sees the team collaborating with Max & Mike’s to serve you a feast in the orchard. The dishes served have a strong focus on local\, sustainable and seasonal producers.
URL:https://britishciderweek.org.uk/event/blossom-feast/
LOCATION:Rull Orchard\, Northdown Lane\, Devon\, EX5 5LN\, United Kingdom
ATTACH;FMTTYPE=image/jpeg:https://britishciderweek.org.uk/wp-content/uploads/2026/04/IMG_3280-copy.jpg
ORGANIZER;CN="Rull Orchard":MAILTO:rullorchard@gmail.com
GEO:50.83003478005;-3.5209304605551
X-APPLE-STRUCTURED-LOCATION;VALUE=URI;X-ADDRESS=Rull Orchard Northdown Lane Devon EX5 5LN United Kingdom;X-APPLE-RADIUS=500;X-TITLE=Northdown Lane:geo:-3.5209304605551,50.83003478005
END:VEVENT
BEGIN:VEVENT
DTSTART;TZID=Europe/London:20260509T080000
DTEND;TZID=Europe/London:20260509T170000
DTSTAMP:20260424T143325
CREATED:20260417T120514Z
LAST-MODIFIED:20260417T120514Z
UID:10002921-1778313600-1778346000@britishciderweek.org.uk
SUMMARY:Blossom Day
DESCRIPTION:A charity fundraising blossom walk around the Broome Farm Orchards.\nIn 2019\, Becky and Albert walked every single row of the farm\, up and down each of them took a grand total of 20 miles! For our charity blossom walk\, you will be able to choose different routes to walk the farm orchards of varying length\, with cider and cream teas to keep you fuelled up and enjoying the day!
URL:https://britishciderweek.org.uk/event/blossom-day/
LOCATION:Ross on Wye Cider\, Peterstow\, Ross-on-Wye\, Herefordshire\, HR9 6JZ\, United Kingdom
ATTACH;FMTTYPE=image/jpeg:https://britishciderweek.org.uk/wp-content/uploads/2026/04/Ross-on-Wye-Cider.jpg
ORGANIZER;CN="Ross-on-Wye Cider & Perry Company":MAILTO:becky@rosscider.com
GEO:51.917820155006;-2.6316643928808
X-APPLE-STRUCTURED-LOCATION;VALUE=URI;X-ADDRESS=Ross on Wye Cider Peterstow Ross-on-Wye Herefordshire HR9 6JZ United Kingdom;X-APPLE-RADIUS=500;X-TITLE=Peterstow:geo:-2.6316643928808,51.917820155006
END:VEVENT
BEGIN:VEVENT
DTSTART;TZID=Europe/London:20260509T150000
DTEND;TZID=Europe/London:20260509T230000
DTSTAMP:20260424T143325
CREATED:20260417T115605Z
LAST-MODIFIED:20260417T115648Z
UID:10002920-1778338800-1778367600@britishciderweek.org.uk
SUMMARY:Late Beltane - a spring festival
DESCRIPTION:Join us for our fourth annual celebration of Beltane! We’re delighted to welcome Dish by Art to the orchard who will be serving up delicious food all afternoon.\n\nThe bar will be stocked with the best locally made drinks available (beer from Lucky 7\, wine from Black Mountain Vineyard and gin and tonics from Hay Distillery) with cider from ourselves of course! We’ll also have a good range of non-alcoholic options.\n\nAs if that wasn’t enough we’ll also be treated to some wonderful music from ‘The Devils Dream’ who will be playing evocative and fiery tunes from the mountains of Appalachia on old-time fiddle and clawhammer banjo and will be sure to have you up and dancing!\n\nCome and join us around the campfire for a truly memorable Beltane!\n\nParking is first come\, first served at the venue. Alternatively\, we are reachable by foot via the Wye Valley Walk- a beautiful stroll directly across the fields from Hay on Wye that takes around 40mins. Additional un-official parking may also be available at St. Mary’s Church\, Clifford. (//////delighted.wicked.hardback).
URL:https://britishciderweek.org.uk/event/late-beltane-a-spring-festival/
LOCATION:Somerset
ATTACH;FMTTYPE=image/webp:https://britishciderweek.org.uk/wp-content/uploads/2026/04/LATE_BELTANE_26_rgb_480x480.webp
ORGANIZER;CN="Artistraw Cider":MAILTO:cider@artistraw.co.uk
END:VEVENT
BEGIN:VEVENT
DTSTART;VALUE=DATE:20260522
DTEND;VALUE=DATE:20260525
DTSTAMP:20260424T143325
CREATED:20260417T120744Z
LAST-MODIFIED:20260417T120744Z
UID:10002922-1779408000-1779667199@britishciderweek.org.uk
SUMMARY:Summertime Soirée
DESCRIPTION:A weekend drinks festival at The Yew Tree Inn.\nAfter a fantastic four years\, the Yew Tree is holding another summer drinks festival in 2026. Featuring live music\, drinks tastings and food from Firebird Kitchen. We can’t wait to welcome everyone back again.
URL:https://britishciderweek.org.uk/event/summertime-soiree/
LOCATION:Ross on Wye Cider\, Peterstow\, Ross-on-Wye\, Herefordshire\, HR9 6JZ\, United Kingdom
ATTACH;FMTTYPE=image/jpeg:https://britishciderweek.org.uk/wp-content/uploads/2026/04/Yew-Tree-Inn.jpg
ORGANIZER;CN="Ross-on-Wye Cider & Perry Company":MAILTO:becky@rosscider.com
GEO:51.917820155006;-2.6316643928808
X-APPLE-STRUCTURED-LOCATION;VALUE=URI;X-ADDRESS=Ross on Wye Cider Peterstow Ross-on-Wye Herefordshire HR9 6JZ United Kingdom;X-APPLE-RADIUS=500;X-TITLE=Peterstow:geo:-2.6316643928808,51.917820155006
END:VEVENT
BEGIN:VEVENT
DTSTART;TZID=Europe/London:20260724T180000
DTEND;TZID=Europe/London:20260724T220000
DTSTAMP:20260424T143325
CREATED:20260325T212854Z
LAST-MODIFIED:20260325T213714Z
UID:10002101-1784916000-1784930400@britishciderweek.org.uk
SUMMARY:Hunts Cider Summer Sessions
DESCRIPTION:Live music and a well stocked bar at Hunts Cider\, join us in our events barn for our family friendly summer sessions\, free entry\, dog friendly with local hot pasties #tisproper.
URL:https://britishciderweek.org.uk/event/hunts-cider-summer-sessions/
LOCATION:Hunts Cider\, Broadleigh Farm\, Stoke Gabriel\, Totnes\, Devon\, TQ9 6PU\, United Kingdom
ATTACH;FMTTYPE=image/jpeg:https://britishciderweek.org.uk/wp-content/uploads/2026/03/HuntsCiderFest2021_113-scaled.jpg
ORGANIZER;CN="Hunts Cider":MAILTO:enquiries@huntscider.co.uk
GEO:50.4173163;-3.6172619
X-APPLE-STRUCTURED-LOCATION;VALUE=URI;X-ADDRESS=Hunts Cider Broadleigh Farm Stoke Gabriel Totnes Devon TQ9 6PU United Kingdom;X-APPLE-RADIUS=500;X-TITLE=Broadleigh Farm\, Stoke Gabriel:geo:-3.6172619,50.4173163
END:VEVENT
BEGIN:VEVENT
DTSTART;TZID=Europe/London:20261003T180000
DTEND;TZID=Europe/London:20261003T180000
DTSTAMP:20260424T143325
CREATED:20260324T112108Z
LAST-MODIFIED:20260324T112323Z
UID:10002095-1791050400-1791050400@britishciderweek.org.uk
SUMMARY:Hunts Cider Festival
DESCRIPTION:Hunts Cider Festival is held in a barn at Hunts Cider with 500 people onsite there’s live music\, food and plenty of cider (with a few other options thrown in too). Head to our website to book tickets.
URL:https://britishciderweek.org.uk/event/hunts-cider-festival/
LOCATION:Hunts Cider\, Broadleigh Farm\, Stoke Gabriel\, Totnes\, Devon\, TQ9 6PU\, United Kingdom
ATTACH;FMTTYPE=image/jpeg:https://britishciderweek.org.uk/wp-content/uploads/2026/03/cider-fest-2023-scaled.jpeg
ORGANIZER;CN="Hunts Cider":MAILTO:enquiries@huntscider.co.uk
GEO:50.4173163;-3.6172619
X-APPLE-STRUCTURED-LOCATION;VALUE=URI;X-ADDRESS=Hunts Cider Broadleigh Farm Stoke Gabriel Totnes Devon TQ9 6PU United Kingdom;X-APPLE-RADIUS=500;X-TITLE=Broadleigh Farm\, Stoke Gabriel:geo:-3.6172619,50.4173163
END:VEVENT
END:VCALENDAR