BEGIN:VCALENDAR
VERSION:2.0
PRODID:-//British Cider Week - ECPv6.15.20//NONSGML v1.0//EN
CALSCALE:GREGORIAN
METHOD:PUBLISH
X-ORIGINAL-URL:https://britishciderweek.org.uk
X-WR-CALDESC:Events for British Cider Week
REFRESH-INTERVAL;VALUE=DURATION:PT1H
X-Robots-Tag:noindex
X-PUBLISHED-TTL:PT1H
BEGIN:VTIMEZONE
TZID:Europe/London
BEGIN:DAYLIGHT
TZOFFSETFROM:+0000
TZOFFSETTO:+0100
TZNAME:BST
DTSTART:20250330T010000
END:DAYLIGHT
BEGIN:STANDARD
TZOFFSETFROM:+0100
TZOFFSETTO:+0000
TZNAME:GMT
DTSTART:20251026T010000
END:STANDARD
BEGIN:DAYLIGHT
TZOFFSETFROM:+0000
TZOFFSETTO:+0100
TZNAME:BST
DTSTART:20260329T010000
END:DAYLIGHT
BEGIN:STANDARD
TZOFFSETFROM:+0100
TZOFFSETTO:+0000
TZNAME:GMT
DTSTART:20261025T010000
END:STANDARD
BEGIN:DAYLIGHT
TZOFFSETFROM:+0000
TZOFFSETTO:+0100
TZNAME:BST
DTSTART:20270328T010000
END:DAYLIGHT
BEGIN:STANDARD
TZOFFSETFROM:+0100
TZOFFSETTO:+0000
TZNAME:GMT
DTSTART:20271031T010000
END:STANDARD
END:VTIMEZONE
BEGIN:VEVENT
DTSTART;TZID=Europe/London:20260424T180000
DTEND;TZID=Europe/London:20260424T213000
DTSTAMP:20260420T203202
CREATED:20260218T130426Z
LAST-MODIFIED:20260218T133221Z
UID:10002079-1777053600-1777066200@britishciderweek.org.uk
SUMMARY:Sheppy's Master of Cider Tour and Supper
DESCRIPTION:As part of British Cider Week – a new initiative led by the National Association of Cider Makers (NACM) which is a campaign designed to encourage consumers to explore the diversity of ciders produced in the UK – David Sheppy is inviting guests to join him on a guided tour and tasting on the cider farm. \nDuring the tour you will visit to our orchards\, before showing you one of our vat houses\, and then our press house. \nYour tour will finish off with a fully tutored tasting of a selection of Sheppy’s award- winning Somerset ciders chosen by David. The evening will continue with a Q&A session asking David questions about his time in the cider business. \nTicket includes a sharing supper.
URL:https://britishciderweek.org.uk/event/sheppys-master-of-cider-tour-and-supper/
LOCATION:Sheppys House of Cider\, Three Bridges\, Bradford-on-Tone\, Taunton\, Somerset\, TA4 1ER\, United Kingdom
ATTACH;FMTTYPE=image/jpeg:https://britishciderweek.org.uk/wp-content/uploads/2023/03/sheppey-master-of-cider.jpg
ORGANIZER;CN="Sheppy's Cider":MAILTO:sarahr@sheppyscider.com
GEO:50.9934288;-3.174548
X-APPLE-STRUCTURED-LOCATION;VALUE=URI;X-ADDRESS=Sheppys House of Cider Three Bridges Bradford-on-Tone Taunton Somerset TA4 1ER United Kingdom;X-APPLE-RADIUS=500;X-TITLE=Three Bridges\, Bradford-on-Tone:geo:-3.174548,50.9934288
END:VEVENT
BEGIN:VEVENT
DTSTART;TZID=Europe/London:20260425T140000
DTEND;TZID=Europe/London:20260425T160000
DTSTAMP:20260420T203202
CREATED:20260128T111713Z
LAST-MODIFIED:20260218T133247Z
UID:10002076-1777125600-1777132800@britishciderweek.org.uk
SUMMARY:Thornborough Yorkshire Cider - Tour and Tasting
DESCRIPTION:Immerse yourself in the world of craft cider with this tour and tasting experience with an award-winning North Yorkshire cider maker. \nStart with a guided walk around our five acre orchard\, where you’ll learn about the varieties of apples that go into crafting our range of award-winning ciders. Then\, go behind-the-scenes and discover the fascinating cider-making process\, from pressing the apples to fermentation and bottling. Finally\, complete the experience with a tasting of at least four ciders that typically include some single variety ciders\, some ciders straight from the tanks as well as some of our award winning blends. \nWe are located between the Yorkshire Dales and North York Moors\, 10 minutes from the A1 J50.
URL:https://britishciderweek.org.uk/event/thornborough-yorkshire-cider-tour-and-tasting/
LOCATION:Thornborough Cider\, White House\, Thornborough\, Bedale\, North Yorkshire\, DL8 2RE
ATTACH;FMTTYPE=image/jpeg:https://britishciderweek.org.uk/wp-content/uploads/2026/01/Orchard_rainbow-scaled.jpg
ORGANIZER;CN="Thornborough Cider":MAILTO:kingsley@thornboroughcider.co.uk
GEO:54.2125389;-1.552842
X-APPLE-STRUCTURED-LOCATION;VALUE=URI;X-ADDRESS=Thornborough Cider White House Thornborough Bedale North Yorkshire DL8 2RE;X-APPLE-RADIUS=500;X-TITLE=White House:geo:-1.552842,54.2125389
END:VEVENT
BEGIN:VEVENT
DTSTART;TZID=Europe/London:20260426T100000
DTEND;TZID=Europe/London:20260426T160000
DTSTAMP:20260420T203202
CREATED:20260217T163409Z
LAST-MODIFIED:20260218T133315Z
UID:10002077-1777197600-1777219200@britishciderweek.org.uk
SUMMARY:Enjoy wandering the Orchards
DESCRIPTION:In celebration of British Cider Week & Orchard Blossom Day we are proud to open our beautiful orchards at ORCHARD PARK FARM\, HORNBLOTTON\, BA4 6SF \nEnjoy wandering the Orchards and Cidery tours – booking and payment on the day \n\nOrchard Park Farm’s Cider and Apple juice fresh from the farm!\nFood and Refreshments available\nTractor/Trailer rides down to the Woodlands\nExplore and join in with some of the many activities the farm offers – Axe throwing\, Archery\, Air rifles\, Paint balling & Dog Walking\n\nFree entry and parking       Children and dogs very welcome
URL:https://britishciderweek.org.uk/event/enjoy-wandering-the-orchards/
LOCATION:Orchard Park Farms\, Hornblotton\, Shepton Mallet\, Somerset\, BA4 6SF\, United Kingdom
ATTACH;FMTTYPE=image/avif:https://britishciderweek.org.uk/wp-content/uploads/2026/02/OrchardPark-Farms.avif
ORGANIZER;CN="Orchard Park Farms":MAILTO:accounts@orchardparkfarms.com
GEO:51.0975058;-2.5870641
X-APPLE-STRUCTURED-LOCATION;VALUE=URI;X-ADDRESS=Orchard Park Farms Hornblotton Shepton Mallet Somerset BA4 6SF United Kingdom;X-APPLE-RADIUS=500;X-TITLE=Hornblotton:geo:-2.5870641,51.0975058
END:VEVENT
BEGIN:VEVENT
DTSTART;TZID=Europe/London:20260426T120000
DTEND;TZID=Europe/London:20260426T140000
DTSTAMP:20260420T203202
CREATED:20260218T134557Z
LAST-MODIFIED:20260218T134557Z
UID:10002080-1777204800-1777212000@britishciderweek.org.uk
SUMMARY:Kentish Pip Cider Tour and Tasting
DESCRIPTION:Our cider tour and tasting events will take place every Sunday from April to September. These tours start from 12 noon. \n\nTours begin and end at The Barn\, Woolton Farm\, Bekesbourne\, Canterbury\, Kent CT4 5EA. \nTickets include: \nGuided orchard walk where you can learn about the different types of apples grown in this country. \nCidery tour\, includes tastings of the different cider styles direct from their tank with samples along the way in the orchard.  \nTickets are £22 per person. \nUnder 18s must be accompanied by an adult. You must be over 18 to consume alcohol on the premises and we operate a challenge 25 policy for ID. \nParking available on site.
URL:https://britishciderweek.org.uk/event/kentish-pip-cider-tour-and-tasting/2026-04-26/
LOCATION:Kentish Pip\, The Barn\, Woolton Farm\, Bekesbourne\, Canterbury\, Kent\, CT4 5EA\, United Kingdom
ATTACH;FMTTYPE=image/webp:https://britishciderweek.org.uk/wp-content/uploads/2026/02/Bank_Holiday_Weekend_at_Kentish_Pip032_websize.webp
ORGANIZER;CN="Kentish Pip":MAILTO:hello@wooltonfarm.co.uk
GEO:51.2690451;1.1383221
X-APPLE-STRUCTURED-LOCATION;VALUE=URI;X-ADDRESS=Kentish Pip The Barn Woolton Farm Bekesbourne Canterbury Kent CT4 5EA United Kingdom;X-APPLE-RADIUS=500;X-TITLE=The Barn\, Woolton Farm\, Bekesbourne:geo:1.1383221,51.2690451
END:VEVENT
BEGIN:VEVENT
DTSTART;TZID=Europe/London:20260503T100000
DTEND;TZID=Europe/London:20260504T170000
DTSTAMP:20260420T203202
CREATED:20251118T125516Z
LAST-MODIFIED:20260420T114307Z
UID:10002075-1777802400-1777914000@britishciderweek.org.uk
SUMMARY:The Big Apple Blossomtime
DESCRIPTION:This is an annual special springtime opportunity to enjoy the lovely countryside and orchards of the Marcle Ridge in Herefordshire\, where local orchards are famous both for their cider fruit and their dessert and culinary fruit.  This is normally the peak of the blossom season so the trees can look spectacular.  Blossomtime operates over several venues in Putley and Aylton. \nPutley Parish Hall (car parking\, tickets\, information\, guided walks\, refreshments)\, \nCourt Farm Barn (crafts\, talks and a variety of rural activities)\, \nYew Tree Farm (perry orchard\, perry tasting) \nDragon Orchard (cider and perry tasting\, sales and daytime entertainment). \nAll venues are within easy walking distance of each other but there is also a tractor and trailer service running between all venues between 10am and 5pm both days.
URL:https://britishciderweek.org.uk/event/the-big-apple-blossomtime-2/2026-05-03/
LOCATION:The Big Apple\, Putley Village Hall\, Putley\, Herefordshire\, HR8 2QN\, United Kingdom
ATTACH;FMTTYPE=image/png:https://britishciderweek.org.uk/wp-content/uploads/2025/11/The-Big-Apple.png
GEO:52.0352983;-2.509236
X-APPLE-STRUCTURED-LOCATION;VALUE=URI;X-ADDRESS=The Big Apple Putley Village Hall Putley Herefordshire HR8 2QN United Kingdom;X-APPLE-RADIUS=500;X-TITLE=Putley Village Hall:geo:-2.509236,52.0352983
END:VEVENT
BEGIN:VEVENT
DTSTART;TZID=Europe/London:20260503T120000
DTEND;TZID=Europe/London:20260503T140000
DTSTAMP:20260420T203202
CREATED:20260218T134557Z
LAST-MODIFIED:20260218T134557Z
UID:10002081-1777809600-1777816800@britishciderweek.org.uk
SUMMARY:Kentish Pip Cider Tour and Tasting
DESCRIPTION:Our cider tour and tasting events will take place every Sunday from April to September. These tours start from 12 noon. \n\nTours begin and end at The Barn\, Woolton Farm\, Bekesbourne\, Canterbury\, Kent CT4 5EA. \nTickets include: \nGuided orchard walk where you can learn about the different types of apples grown in this country. \nCidery tour\, includes tastings of the different cider styles direct from their tank with samples along the way in the orchard.  \nTickets are £22 per person. \nUnder 18s must be accompanied by an adult. You must be over 18 to consume alcohol on the premises and we operate a challenge 25 policy for ID. \nParking available on site.
URL:https://britishciderweek.org.uk/event/kentish-pip-cider-tour-and-tasting/2026-05-03/
LOCATION:Kentish Pip\, The Barn\, Woolton Farm\, Bekesbourne\, Canterbury\, Kent\, CT4 5EA\, United Kingdom
ATTACH;FMTTYPE=image/webp:https://britishciderweek.org.uk/wp-content/uploads/2026/02/Bank_Holiday_Weekend_at_Kentish_Pip032_websize.webp
ORGANIZER;CN="Kentish Pip":MAILTO:hello@wooltonfarm.co.uk
GEO:51.2690451;1.1383221
X-APPLE-STRUCTURED-LOCATION;VALUE=URI;X-ADDRESS=Kentish Pip The Barn Woolton Farm Bekesbourne Canterbury Kent CT4 5EA United Kingdom;X-APPLE-RADIUS=500;X-TITLE=The Barn\, Woolton Farm\, Bekesbourne:geo:1.1383221,51.2690451
END:VEVENT
BEGIN:VEVENT
DTSTART;TZID=Europe/London:20260504T100000
DTEND;TZID=Europe/London:20260504T170000
DTSTAMP:20260420T203202
CREATED:20251118T125516Z
LAST-MODIFIED:20260420T114307Z
UID:10002923-1777888800-1777914000@britishciderweek.org.uk
SUMMARY:The Big Apple Blossomtime
DESCRIPTION:This is an annual special springtime opportunity to enjoy the lovely countryside and orchards of the Marcle Ridge in Herefordshire\, where local orchards are famous both for their cider fruit and their dessert and culinary fruit.  This is normally the peak of the blossom season so the trees can look spectacular.  Blossomtime operates over several venues in Putley and Aylton. \nPutley Parish Hall (car parking\, tickets\, information\, guided walks\, refreshments)\, \nCourt Farm Barn (crafts\, talks and a variety of rural activities)\, \nYew Tree Farm (perry orchard\, perry tasting) \nDragon Orchard (cider and perry tasting\, sales and daytime entertainment). \nAll venues are within easy walking distance of each other but there is also a tractor and trailer service running between all venues between 10am and 5pm both days.
URL:https://britishciderweek.org.uk/event/the-big-apple-blossomtime-2/2026-05-04/
LOCATION:The Big Apple\, Putley Village Hall\, Putley\, Herefordshire\, HR8 2QN\, United Kingdom
ATTACH;FMTTYPE=image/png:https://britishciderweek.org.uk/wp-content/uploads/2025/11/The-Big-Apple.png
GEO:52.0352983;-2.509236
X-APPLE-STRUCTURED-LOCATION;VALUE=URI;X-ADDRESS=The Big Apple Putley Village Hall Putley Herefordshire HR8 2QN United Kingdom;X-APPLE-RADIUS=500;X-TITLE=Putley Village Hall:geo:-2.509236,52.0352983
END:VEVENT
BEGIN:VEVENT
DTSTART;TZID=Europe/London:20260504T170000
DTEND;TZID=Europe/London:20260504T190000
DTSTAMP:20260420T203202
CREATED:20260218T125939Z
LAST-MODIFIED:20260218T133035Z
UID:10002078-1777914000-1777921200@britishciderweek.org.uk
SUMMARY:Hornchurch Cider & Perry Celebration at The Hop Inn
DESCRIPTION:EXPERT-LED CIDER AND PERRY TASTING: \nTo celebrate British Cider Week The Hop Inn Hornchurch will be hosting a tasting and celebration of the glory of cider and perry made in Britain\, from 100% freshly pressed juice. Led by Pommelier and cider advocate Alison Taffs\, we will be tasting our way through six exquisite examples of the very best that British apples and pears have to offer\, from some of the UK’s best craft makers. \nWe will sample some delicious ciders from nearby Kent\, as well as some tasty juicy things from the West Country. \nWe will sample some Herefordshire cider from Tom Oliver made especially for cheese with a nice piece of Cheddar! \nPop in to The Hop Inn for your tickets\, or drop us a line on team@hopinnhornchurch.com.
URL:https://britishciderweek.org.uk/event/hornchurch-cider-perry-celebration-at-the-hop-inn/
LOCATION:Hop Inn\, 122 North Street\, London\, RM11 1SU\, United Kingdom
ATTACH;FMTTYPE=image/jpeg:https://britishciderweek.org.uk/wp-content/uploads/2026/02/The-Hop-Inn.jpg
GEO:51.5677427;0.2202205
X-APPLE-STRUCTURED-LOCATION;VALUE=URI;X-ADDRESS=Hop Inn 122 North Street London RM11 1SU United Kingdom;X-APPLE-RADIUS=500;X-TITLE=122 North Street:geo:0.2202205,51.5677427
END:VEVENT
END:VCALENDAR