BEGIN:VCALENDAR
VERSION:2.0
PRODID:-//British Cider Week - ECPv6.15.20//NONSGML v1.0//EN
CALSCALE:GREGORIAN
METHOD:PUBLISH
X-WR-CALNAME:British Cider Week
X-ORIGINAL-URL:https://britishciderweek.org.uk
X-WR-CALDESC:Events for British Cider Week
REFRESH-INTERVAL;VALUE=DURATION:PT1H
X-Robots-Tag:noindex
X-PUBLISHED-TTL:PT1H
BEGIN:VTIMEZONE
TZID:Europe/London
BEGIN:DAYLIGHT
TZOFFSETFROM:+0000
TZOFFSETTO:+0100
TZNAME:BST
DTSTART:20250330T010000
END:DAYLIGHT
BEGIN:STANDARD
TZOFFSETFROM:+0100
TZOFFSETTO:+0000
TZNAME:GMT
DTSTART:20251026T010000
END:STANDARD
BEGIN:DAYLIGHT
TZOFFSETFROM:+0000
TZOFFSETTO:+0100
TZNAME:BST
DTSTART:20260329T010000
END:DAYLIGHT
BEGIN:STANDARD
TZOFFSETFROM:+0100
TZOFFSETTO:+0000
TZNAME:GMT
DTSTART:20261025T010000
END:STANDARD
BEGIN:DAYLIGHT
TZOFFSETFROM:+0000
TZOFFSETTO:+0100
TZNAME:BST
DTSTART:20270328T010000
END:DAYLIGHT
BEGIN:STANDARD
TZOFFSETFROM:+0100
TZOFFSETTO:+0000
TZNAME:GMT
DTSTART:20271031T010000
END:STANDARD
END:VTIMEZONE
BEGIN:VEVENT
DTSTART;TZID=Europe/London:20260503T100000
DTEND;TZID=Europe/London:20260504T170000
DTSTAMP:20260420T221040
CREATED:20251118T125516Z
LAST-MODIFIED:20260420T114307Z
UID:10002075-1777802400-1777914000@britishciderweek.org.uk
SUMMARY:The Big Apple Blossomtime
DESCRIPTION:This is an annual special springtime opportunity to enjoy the lovely countryside and orchards of the Marcle Ridge in Herefordshire\, where local orchards are famous both for their cider fruit and their dessert and culinary fruit.  This is normally the peak of the blossom season so the trees can look spectacular.  Blossomtime operates over several venues in Putley and Aylton. \nPutley Parish Hall (car parking\, tickets\, information\, guided walks\, refreshments)\, \nCourt Farm Barn (crafts\, talks and a variety of rural activities)\, \nYew Tree Farm (perry orchard\, perry tasting) \nDragon Orchard (cider and perry tasting\, sales and daytime entertainment). \nAll venues are within easy walking distance of each other but there is also a tractor and trailer service running between all venues between 10am and 5pm both days.
URL:https://britishciderweek.org.uk/event/the-big-apple-blossomtime-2/2026-05-03/
LOCATION:The Big Apple\, Putley Village Hall\, Putley\, Herefordshire\, HR8 2QN\, United Kingdom
ATTACH;FMTTYPE=image/png:https://britishciderweek.org.uk/wp-content/uploads/2025/11/The-Big-Apple.png
GEO:52.0352983;-2.509236
X-APPLE-STRUCTURED-LOCATION;VALUE=URI;X-ADDRESS=The Big Apple Putley Village Hall Putley Herefordshire HR8 2QN United Kingdom;X-APPLE-RADIUS=500;X-TITLE=Putley Village Hall:geo:-2.509236,52.0352983
END:VEVENT
BEGIN:VEVENT
DTSTART;TZID=Europe/London:20260503T120000
DTEND;TZID=Europe/London:20260503T140000
DTSTAMP:20260420T221040
CREATED:20260218T134557Z
LAST-MODIFIED:20260218T134557Z
UID:10002081-1777809600-1777816800@britishciderweek.org.uk
SUMMARY:Kentish Pip Cider Tour and Tasting
DESCRIPTION:Our cider tour and tasting events will take place every Sunday from April to September. These tours start from 12 noon. \n\nTours begin and end at The Barn\, Woolton Farm\, Bekesbourne\, Canterbury\, Kent CT4 5EA. \nTickets include: \nGuided orchard walk where you can learn about the different types of apples grown in this country. \nCidery tour\, includes tastings of the different cider styles direct from their tank with samples along the way in the orchard.  \nTickets are £22 per person. \nUnder 18s must be accompanied by an adult. You must be over 18 to consume alcohol on the premises and we operate a challenge 25 policy for ID. \nParking available on site.
URL:https://britishciderweek.org.uk/event/kentish-pip-cider-tour-and-tasting/2026-05-03/
LOCATION:Kentish Pip\, The Barn\, Woolton Farm\, Bekesbourne\, Canterbury\, Kent\, CT4 5EA\, United Kingdom
ATTACH;FMTTYPE=image/webp:https://britishciderweek.org.uk/wp-content/uploads/2026/02/Bank_Holiday_Weekend_at_Kentish_Pip032_websize.webp
ORGANIZER;CN="Kentish Pip":MAILTO:hello@wooltonfarm.co.uk
GEO:51.2690451;1.1383221
X-APPLE-STRUCTURED-LOCATION;VALUE=URI;X-ADDRESS=Kentish Pip The Barn Woolton Farm Bekesbourne Canterbury Kent CT4 5EA United Kingdom;X-APPLE-RADIUS=500;X-TITLE=The Barn\, Woolton Farm\, Bekesbourne:geo:1.1383221,51.2690451
END:VEVENT
END:VCALENDAR