BEGIN:VCALENDAR
VERSION:2.0
PRODID:-//British Cider Week - ECPv6.15.20//NONSGML v1.0//EN
CALSCALE:GREGORIAN
METHOD:PUBLISH
X-ORIGINAL-URL:https://britishciderweek.org.uk
X-WR-CALDESC:Events for British Cider Week
REFRESH-INTERVAL;VALUE=DURATION:PT1H
X-Robots-Tag:noindex
X-PUBLISHED-TTL:PT1H
BEGIN:VTIMEZONE
TZID:Europe/London
BEGIN:DAYLIGHT
TZOFFSETFROM:+0000
TZOFFSETTO:+0100
TZNAME:BST
DTSTART:20230326T010000
END:DAYLIGHT
BEGIN:STANDARD
TZOFFSETFROM:+0100
TZOFFSETTO:+0000
TZNAME:GMT
DTSTART:20231029T010000
END:STANDARD
BEGIN:DAYLIGHT
TZOFFSETFROM:+0000
TZOFFSETTO:+0100
TZNAME:BST
DTSTART:20240331T010000
END:DAYLIGHT
BEGIN:STANDARD
TZOFFSETFROM:+0100
TZOFFSETTO:+0000
TZNAME:GMT
DTSTART:20241027T010000
END:STANDARD
BEGIN:DAYLIGHT
TZOFFSETFROM:+0000
TZOFFSETTO:+0100
TZNAME:BST
DTSTART:20250330T010000
END:DAYLIGHT
BEGIN:STANDARD
TZOFFSETFROM:+0100
TZOFFSETTO:+0000
TZNAME:GMT
DTSTART:20251026T010000
END:STANDARD
END:VTIMEZONE
BEGIN:VEVENT
DTSTART;TZID=Europe/London:20240420T110000
DTEND;TZID=Europe/London:20240420T223000
DTSTAMP:20260423T055127
CREATED:20240412T065126Z
LAST-MODIFIED:20240412T070355Z
UID:10000078-1713610800-1713652200@britishciderweek.org.uk
SUMMARY:Cider Saturday - Paella Night
DESCRIPTION:A celebration of real craft cider starting with the Cider Tour in the morning at 11.00am\, followed by a scrumptious Ploughman’s lunch from 12.30 to 2pm. \nThe Tasting Room and Cider Garden are open all day into the evening till 10.30pm. \nBask in the sunshine with a pint of our finest while marvelling at the surrounding Cider apple Orchard. There is a wood fire in the Tasting Room to snuggle up to on colder days. \nPaella Night from 5.30 pm on… till 8pm – delicious Chicken and Vegan Paellas from Oliver’s Kitchen. \nFree entry.
URL:https://britishciderweek.org.uk/event/cider-saturday-paella-night/
LOCATION:Dorset Nectar\, Strong Orchard\, Pineapple lane\, Waytown\, Bridport\, Dorset\, DT6 5FT\, United Kingdom
ATTACH;FMTTYPE=image/jpeg:https://britishciderweek.org.uk/wp-content/uploads/2024/04/Your-paragraph-text-1.jpg
ORGANIZER;CN="Dorset Nectar":MAILTO:dorsetnectar@live.co.uk
GEO:50.7729267;-2.7551073
X-APPLE-STRUCTURED-LOCATION;VALUE=URI;X-ADDRESS=Dorset Nectar Strong Orchard Pineapple lane Waytown Bridport Dorset DT6 5FT United Kingdom;X-APPLE-RADIUS=500;X-TITLE=Strong Orchard\, Pineapple lane\, Waytown:geo:-2.7551073,50.7729267
END:VEVENT
END:VCALENDAR