BEGIN:VCALENDAR
VERSION:2.0
PRODID:-//British Cider Week - ECPv6.15.20//NONSGML v1.0//EN
CALSCALE:GREGORIAN
METHOD:PUBLISH
X-WR-CALNAME:British Cider Week
X-ORIGINAL-URL:https://britishciderweek.org.uk
X-WR-CALDESC:Events for British Cider Week
REFRESH-INTERVAL;VALUE=DURATION:PT1H
X-Robots-Tag:noindex
X-PUBLISHED-TTL:PT1H
BEGIN:VTIMEZONE
TZID:Europe/London
BEGIN:DAYLIGHT
TZOFFSETFROM:+0000
TZOFFSETTO:+0100
TZNAME:BST
DTSTART:20230326T010000
END:DAYLIGHT
BEGIN:STANDARD
TZOFFSETFROM:+0100
TZOFFSETTO:+0000
TZNAME:GMT
DTSTART:20231029T010000
END:STANDARD
BEGIN:DAYLIGHT
TZOFFSETFROM:+0000
TZOFFSETTO:+0100
TZNAME:BST
DTSTART:20240331T010000
END:DAYLIGHT
BEGIN:STANDARD
TZOFFSETFROM:+0100
TZOFFSETTO:+0000
TZNAME:GMT
DTSTART:20241027T010000
END:STANDARD
BEGIN:DAYLIGHT
TZOFFSETFROM:+0000
TZOFFSETTO:+0100
TZNAME:BST
DTSTART:20250330T010000
END:DAYLIGHT
BEGIN:STANDARD
TZOFFSETFROM:+0100
TZOFFSETTO:+0000
TZNAME:GMT
DTSTART:20251026T010000
END:STANDARD
END:VTIMEZONE
BEGIN:VEVENT
DTSTART;TZID=Europe/London:20240427T170000
DTEND;TZID=Europe/London:20240427T223000
DTSTAMP:20260423T044328
CREATED:20240412T064624Z
LAST-MODIFIED:20240412T070441Z
UID:10000079-1714237200-1714257000@britishciderweek.org.uk
SUMMARY:Cider Saturday with Live Music and Food at Dorset Nectar Cider Farm
DESCRIPTION:A celebration of real Ciders\, good Food and live Music.  \n\nTry a Cider Flight\, sampling 3 of the range of 12 delicious ciders. \nBask in the sunshine (weather permitting) with a pint of our finest or cozy up by the fire in our Tasting Room. \nLive Music from Cobalt Blue. \nSmoked chicken\, garlic potatoes and salad from Oliver’s Kitchen – veg option available. \n\nFree entry.
URL:https://britishciderweek.org.uk/event/cider-saturday-with-live-music-and-food-at-dorset-nectar-cider-farm/
LOCATION:Dorset Nectar\, Strong Orchard\, Pineapple lane\, Waytown\, Bridport\, Dorset\, DT6 5FT\, United Kingdom
ATTACH;FMTTYPE=image/png:https://britishciderweek.org.uk/wp-content/uploads/2024/04/Cider-Saturday-Smoked-chicken-and-Cobalt-Blue-27th-April.png
ORGANIZER;CN="Dorset Nectar":MAILTO:dorsetnectar@live.co.uk
GEO:50.7729267;-2.7551073
X-APPLE-STRUCTURED-LOCATION;VALUE=URI;X-ADDRESS=Dorset Nectar Strong Orchard Pineapple lane Waytown Bridport Dorset DT6 5FT United Kingdom;X-APPLE-RADIUS=500;X-TITLE=Strong Orchard\, Pineapple lane\, Waytown:geo:-2.7551073,50.7729267
END:VEVENT
END:VCALENDAR