BEGIN:VCALENDAR
VERSION:2.0
PRODID:-//British Cider Week - ECPv6.15.20//NONSGML v1.0//EN
CALSCALE:GREGORIAN
METHOD:PUBLISH
X-ORIGINAL-URL:https://britishciderweek.org.uk
X-WR-CALDESC:Events for British Cider Week
REFRESH-INTERVAL;VALUE=DURATION:PT1H
X-Robots-Tag:noindex
X-PUBLISHED-TTL:PT1H
BEGIN:VTIMEZONE
TZID:Europe/London
BEGIN:DAYLIGHT
TZOFFSETFROM:+0000
TZOFFSETTO:+0100
TZNAME:BST
DTSTART:20250330T010000
END:DAYLIGHT
BEGIN:STANDARD
TZOFFSETFROM:+0100
TZOFFSETTO:+0000
TZNAME:GMT
DTSTART:20251026T010000
END:STANDARD
BEGIN:DAYLIGHT
TZOFFSETFROM:+0000
TZOFFSETTO:+0100
TZNAME:BST
DTSTART:20260329T010000
END:DAYLIGHT
BEGIN:STANDARD
TZOFFSETFROM:+0100
TZOFFSETTO:+0000
TZNAME:GMT
DTSTART:20261025T010000
END:STANDARD
BEGIN:DAYLIGHT
TZOFFSETFROM:+0000
TZOFFSETTO:+0100
TZNAME:BST
DTSTART:20270328T010000
END:DAYLIGHT
BEGIN:STANDARD
TZOFFSETFROM:+0100
TZOFFSETTO:+0000
TZNAME:GMT
DTSTART:20271031T010000
END:STANDARD
END:VTIMEZONE
BEGIN:VEVENT
DTSTART;VALUE=DATE:20260424
DTEND;VALUE=DATE:20260425
DTSTAMP:20260421T192144
CREATED:20260417T114411Z
LAST-MODIFIED:20260421T112404Z
UID:10002927-1776988800-1777075199@britishciderweek.org.uk
SUMMARY:British Cider Week: Pop!
DESCRIPTION:Free entry over British Cider Week!\n\nQuote ‘Cider26’ to the front of house team upon entry for free entry to the museum and new temporary exhibition POP! \nJoin us between the 14th March and 23rd August and discover the power of pop in a new temporary exhibition.\n\nPOP! Putting the Sparkle into Cider\, explores how your favourite drinks get their fizz and the innovations that paved the way for the drinks we enjoy today\, from cider to champagne.\n\nThere will be a range of objects on display from the Museum’s collections\, illustrating the history and science of sparkling drinks.\n\nSo\, do you prefer your drinks flat\, or with a little bit of sparkle?
URL:https://britishciderweek.org.uk/event/british-cider-week-the-fizz-challenge/2026-04-24/
LOCATION:Hereford Cider Museum\, Pomona Pl\, Hereford\, HR4 0EF\, United Kingdom
ATTACH;FMTTYPE=image/png:https://britishciderweek.org.uk/wp-content/uploads/2026/04/FB-post.png
GEO:52.0553665;-2.7259773
X-APPLE-STRUCTURED-LOCATION;VALUE=URI;X-ADDRESS=Hereford Cider Museum Pomona Pl Hereford HR4 0EF United Kingdom;X-APPLE-RADIUS=500;X-TITLE=Pomona Pl:geo:-2.7259773,52.0553665
END:VEVENT
BEGIN:VEVENT
DTSTART;VALUE=DATE:20260425
DTEND;VALUE=DATE:20260426
DTSTAMP:20260421T192144
CREATED:20260417T114411Z
LAST-MODIFIED:20260421T112404Z
UID:10002928-1777075200-1777161599@britishciderweek.org.uk
SUMMARY:British Cider Week: Pop!
DESCRIPTION:Free entry over British Cider Week!\n\nQuote ‘Cider26’ to the front of house team upon entry for free entry to the museum and new temporary exhibition POP! \nJoin us between the 14th March and 23rd August and discover the power of pop in a new temporary exhibition.\n\nPOP! Putting the Sparkle into Cider\, explores how your favourite drinks get their fizz and the innovations that paved the way for the drinks we enjoy today\, from cider to champagne.\n\nThere will be a range of objects on display from the Museum’s collections\, illustrating the history and science of sparkling drinks.\n\nSo\, do you prefer your drinks flat\, or with a little bit of sparkle?
URL:https://britishciderweek.org.uk/event/british-cider-week-the-fizz-challenge/2026-04-25/
LOCATION:Hereford Cider Museum\, Pomona Pl\, Hereford\, HR4 0EF\, United Kingdom
ATTACH;FMTTYPE=image/png:https://britishciderweek.org.uk/wp-content/uploads/2026/04/FB-post.png
GEO:52.0553665;-2.7259773
X-APPLE-STRUCTURED-LOCATION;VALUE=URI;X-ADDRESS=Hereford Cider Museum Pomona Pl Hereford HR4 0EF United Kingdom;X-APPLE-RADIUS=500;X-TITLE=Pomona Pl:geo:-2.7259773,52.0553665
END:VEVENT
BEGIN:VEVENT
DTSTART;VALUE=DATE:20260426
DTEND;VALUE=DATE:20260427
DTSTAMP:20260421T192144
CREATED:20260417T114411Z
LAST-MODIFIED:20260421T112404Z
UID:10002929-1777161600-1777247999@britishciderweek.org.uk
SUMMARY:British Cider Week: Pop!
DESCRIPTION:Free entry over British Cider Week!\n\nQuote ‘Cider26’ to the front of house team upon entry for free entry to the museum and new temporary exhibition POP! \nJoin us between the 14th March and 23rd August and discover the power of pop in a new temporary exhibition.\n\nPOP! Putting the Sparkle into Cider\, explores how your favourite drinks get their fizz and the innovations that paved the way for the drinks we enjoy today\, from cider to champagne.\n\nThere will be a range of objects on display from the Museum’s collections\, illustrating the history and science of sparkling drinks.\n\nSo\, do you prefer your drinks flat\, or with a little bit of sparkle?
URL:https://britishciderweek.org.uk/event/british-cider-week-the-fizz-challenge/2026-04-26/
LOCATION:Hereford Cider Museum\, Pomona Pl\, Hereford\, HR4 0EF\, United Kingdom
ATTACH;FMTTYPE=image/png:https://britishciderweek.org.uk/wp-content/uploads/2026/04/FB-post.png
GEO:52.0553665;-2.7259773
X-APPLE-STRUCTURED-LOCATION;VALUE=URI;X-ADDRESS=Hereford Cider Museum Pomona Pl Hereford HR4 0EF United Kingdom;X-APPLE-RADIUS=500;X-TITLE=Pomona Pl:geo:-2.7259773,52.0553665
END:VEVENT
BEGIN:VEVENT
DTSTART;VALUE=DATE:20260428
DTEND;VALUE=DATE:20260429
DTSTAMP:20260421T192144
CREATED:20260417T114411Z
LAST-MODIFIED:20260421T112404Z
UID:10002931-1777334400-1777420799@britishciderweek.org.uk
SUMMARY:British Cider Week: Pop!
DESCRIPTION:Free entry over British Cider Week!\n\nQuote ‘Cider26’ to the front of house team upon entry for free entry to the museum and new temporary exhibition POP! \nJoin us between the 14th March and 23rd August and discover the power of pop in a new temporary exhibition.\n\nPOP! Putting the Sparkle into Cider\, explores how your favourite drinks get their fizz and the innovations that paved the way for the drinks we enjoy today\, from cider to champagne.\n\nThere will be a range of objects on display from the Museum’s collections\, illustrating the history and science of sparkling drinks.\n\nSo\, do you prefer your drinks flat\, or with a little bit of sparkle?
URL:https://britishciderweek.org.uk/event/british-cider-week-the-fizz-challenge/2026-04-28/
LOCATION:Hereford Cider Museum\, Pomona Pl\, Hereford\, HR4 0EF\, United Kingdom
ATTACH;FMTTYPE=image/png:https://britishciderweek.org.uk/wp-content/uploads/2026/04/FB-post.png
GEO:52.0553665;-2.7259773
X-APPLE-STRUCTURED-LOCATION;VALUE=URI;X-ADDRESS=Hereford Cider Museum Pomona Pl Hereford HR4 0EF United Kingdom;X-APPLE-RADIUS=500;X-TITLE=Pomona Pl:geo:-2.7259773,52.0553665
END:VEVENT
BEGIN:VEVENT
DTSTART;VALUE=DATE:20260429
DTEND;VALUE=DATE:20260430
DTSTAMP:20260421T192144
CREATED:20260417T114411Z
LAST-MODIFIED:20260421T112404Z
UID:10002932-1777420800-1777507199@britishciderweek.org.uk
SUMMARY:British Cider Week: Pop!
DESCRIPTION:Free entry over British Cider Week!\n\nQuote ‘Cider26’ to the front of house team upon entry for free entry to the museum and new temporary exhibition POP! \nJoin us between the 14th March and 23rd August and discover the power of pop in a new temporary exhibition.\n\nPOP! Putting the Sparkle into Cider\, explores how your favourite drinks get their fizz and the innovations that paved the way for the drinks we enjoy today\, from cider to champagne.\n\nThere will be a range of objects on display from the Museum’s collections\, illustrating the history and science of sparkling drinks.\n\nSo\, do you prefer your drinks flat\, or with a little bit of sparkle?
URL:https://britishciderweek.org.uk/event/british-cider-week-the-fizz-challenge/2026-04-29/
LOCATION:Hereford Cider Museum\, Pomona Pl\, Hereford\, HR4 0EF\, United Kingdom
ATTACH;FMTTYPE=image/png:https://britishciderweek.org.uk/wp-content/uploads/2026/04/FB-post.png
GEO:52.0553665;-2.7259773
X-APPLE-STRUCTURED-LOCATION;VALUE=URI;X-ADDRESS=Hereford Cider Museum Pomona Pl Hereford HR4 0EF United Kingdom;X-APPLE-RADIUS=500;X-TITLE=Pomona Pl:geo:-2.7259773,52.0553665
END:VEVENT
BEGIN:VEVENT
DTSTART;VALUE=DATE:20260430
DTEND;VALUE=DATE:20260501
DTSTAMP:20260421T192144
CREATED:20260417T114411Z
LAST-MODIFIED:20260421T112404Z
UID:10002933-1777507200-1777593599@britishciderweek.org.uk
SUMMARY:British Cider Week: Pop!
DESCRIPTION:Free entry over British Cider Week!\n\nQuote ‘Cider26’ to the front of house team upon entry for free entry to the museum and new temporary exhibition POP! \nJoin us between the 14th March and 23rd August and discover the power of pop in a new temporary exhibition.\n\nPOP! Putting the Sparkle into Cider\, explores how your favourite drinks get their fizz and the innovations that paved the way for the drinks we enjoy today\, from cider to champagne.\n\nThere will be a range of objects on display from the Museum’s collections\, illustrating the history and science of sparkling drinks.\n\nSo\, do you prefer your drinks flat\, or with a little bit of sparkle?
URL:https://britishciderweek.org.uk/event/british-cider-week-the-fizz-challenge/2026-04-30/
LOCATION:Hereford Cider Museum\, Pomona Pl\, Hereford\, HR4 0EF\, United Kingdom
ATTACH;FMTTYPE=image/png:https://britishciderweek.org.uk/wp-content/uploads/2026/04/FB-post.png
GEO:52.0553665;-2.7259773
X-APPLE-STRUCTURED-LOCATION;VALUE=URI;X-ADDRESS=Hereford Cider Museum Pomona Pl Hereford HR4 0EF United Kingdom;X-APPLE-RADIUS=500;X-TITLE=Pomona Pl:geo:-2.7259773,52.0553665
END:VEVENT
END:VCALENDAR