BEGIN:VCALENDAR
VERSION:2.0
PRODID:-//British Cider Week - ECPv6.15.20//NONSGML v1.0//EN
CALSCALE:GREGORIAN
METHOD:PUBLISH
X-WR-CALNAME:British Cider Week
X-ORIGINAL-URL:https://britishciderweek.org.uk
X-WR-CALDESC:Events for British Cider Week
REFRESH-INTERVAL;VALUE=DURATION:PT1H
X-Robots-Tag:noindex
X-PUBLISHED-TTL:PT1H
BEGIN:VTIMEZONE
TZID:Europe/London
BEGIN:DAYLIGHT
TZOFFSETFROM:+0000
TZOFFSETTO:+0100
TZNAME:BST
DTSTART:20230326T010000
END:DAYLIGHT
BEGIN:STANDARD
TZOFFSETFROM:+0100
TZOFFSETTO:+0000
TZNAME:GMT
DTSTART:20231029T010000
END:STANDARD
BEGIN:DAYLIGHT
TZOFFSETFROM:+0000
TZOFFSETTO:+0100
TZNAME:BST
DTSTART:20240331T010000
END:DAYLIGHT
BEGIN:STANDARD
TZOFFSETFROM:+0100
TZOFFSETTO:+0000
TZNAME:GMT
DTSTART:20241027T010000
END:STANDARD
BEGIN:DAYLIGHT
TZOFFSETFROM:+0000
TZOFFSETTO:+0100
TZNAME:BST
DTSTART:20250330T010000
END:DAYLIGHT
BEGIN:STANDARD
TZOFFSETFROM:+0100
TZOFFSETTO:+0000
TZNAME:GMT
DTSTART:20251026T010000
END:STANDARD
END:VTIMEZONE
BEGIN:VEVENT
DTSTART;TZID=Europe/London:20240420T110000
DTEND;TZID=Europe/London:20240420T150000
DTSTAMP:20260423T043458
CREATED:20240410T174951Z
LAST-MODIFIED:20240410T174951Z
UID:10000069-1713610800-1713625200@britishciderweek.org.uk
SUMMARY:Hogan's Pop Up Cider and Cheese
DESCRIPTION:This will be no fun unless you’re there!! \nOptional cider tour with Allen\, flight of cider / perry samples with delicious cheese. \nDraught/bottled cider to buy/take away. \nPartially covered – bring waterproofs unless monsoon season is over!
URL:https://britishciderweek.org.uk/event/hogans-pop-up-cider-and-cheese/2024-04-20/
LOCATION:Hogan’s Cider\, Unit 2\, Lower Barn Buildings\, Haselor\, Alcester\, Warwickshire\, B49 6GB\, United Kingdom
ATTACH;FMTTYPE=image/jpeg:https://britishciderweek.org.uk/wp-content/uploads/2024/04/Hogans-Cider-e1712771284804.jpg
GEO:52.2206278;-1.8337743
X-APPLE-STRUCTURED-LOCATION;VALUE=URI;X-ADDRESS=Hogan’s Cider Unit 2 Lower Barn Buildings Haselor Alcester Warwickshire B49 6GB United Kingdom;X-APPLE-RADIUS=500;X-TITLE=Unit 2\, Lower Barn Buildings\, Haselor:geo:-1.8337743,52.2206278
END:VEVENT
BEGIN:VEVENT
DTSTART;TZID=Europe/London:20240427T110000
DTEND;TZID=Europe/London:20240427T150000
DTSTAMP:20260423T043458
CREATED:20240410T174951Z
LAST-MODIFIED:20240410T174951Z
UID:10000070-1714215600-1714230000@britishciderweek.org.uk
SUMMARY:Hogan's Pop Up Cider and Cheese
DESCRIPTION:This will be no fun unless you’re there!! \nOptional cider tour with Allen\, flight of cider / perry samples with delicious cheese. \nDraught/bottled cider to buy/take away. \nPartially covered – bring waterproofs unless monsoon season is over!
URL:https://britishciderweek.org.uk/event/hogans-pop-up-cider-and-cheese/2024-04-27/
LOCATION:Hogan’s Cider\, Unit 2\, Lower Barn Buildings\, Haselor\, Alcester\, Warwickshire\, B49 6GB\, United Kingdom
ATTACH;FMTTYPE=image/jpeg:https://britishciderweek.org.uk/wp-content/uploads/2024/04/Hogans-Cider-e1712771284804.jpg
GEO:52.2206278;-1.8337743
X-APPLE-STRUCTURED-LOCATION;VALUE=URI;X-ADDRESS=Hogan’s Cider Unit 2 Lower Barn Buildings Haselor Alcester Warwickshire B49 6GB United Kingdom;X-APPLE-RADIUS=500;X-TITLE=Unit 2\, Lower Barn Buildings\, Haselor:geo:-1.8337743,52.2206278
END:VEVENT
END:VCALENDAR