BEGIN:VCALENDAR
VERSION:2.0
PRODID:-//British Cider Week - ECPv6.15.20//NONSGML v1.0//EN
CALSCALE:GREGORIAN
METHOD:PUBLISH
X-WR-CALNAME:British Cider Week
X-ORIGINAL-URL:https://britishciderweek.org.uk
X-WR-CALDESC:Events for British Cider Week
REFRESH-INTERVAL;VALUE=DURATION:PT1H
X-Robots-Tag:noindex
X-PUBLISHED-TTL:PT1H
BEGIN:VTIMEZONE
TZID:Europe/London
BEGIN:DAYLIGHT
TZOFFSETFROM:+0000
TZOFFSETTO:+0100
TZNAME:BST
DTSTART:20220327T010000
END:DAYLIGHT
BEGIN:STANDARD
TZOFFSETFROM:+0100
TZOFFSETTO:+0000
TZNAME:GMT
DTSTART:20221030T010000
END:STANDARD
BEGIN:DAYLIGHT
TZOFFSETFROM:+0000
TZOFFSETTO:+0100
TZNAME:BST
DTSTART:20230326T010000
END:DAYLIGHT
BEGIN:STANDARD
TZOFFSETFROM:+0100
TZOFFSETTO:+0000
TZNAME:GMT
DTSTART:20231029T010000
END:STANDARD
BEGIN:DAYLIGHT
TZOFFSETFROM:+0000
TZOFFSETTO:+0100
TZNAME:BST
DTSTART:20240331T010000
END:DAYLIGHT
BEGIN:STANDARD
TZOFFSETFROM:+0100
TZOFFSETTO:+0000
TZNAME:GMT
DTSTART:20241027T010000
END:STANDARD
END:VTIMEZONE
BEGIN:VEVENT
DTSTART;TZID=Europe/London:20230414T180000
DTEND;TZID=Europe/London:20230414T210000
DTSTAMP:20260419T174442
CREATED:20230329T125519Z
LAST-MODIFIED:20230330T160123Z
UID:10000031-1681495200-1681506000@britishciderweek.org.uk
SUMMARY:Cider and Crepe Night at Find & Foster
DESCRIPTION:Enjoy a savoury crepe and a sweet crepe along with Find & Foster Fine Ciders in the beautiful surroundings of Huxham orchard. \nYou’ll also have the chance to taste yet-to-be-released ciders from harvest 2022. \nAdults £18. Under 18s £8. Price includes two crepes and cider & apple juice all night. \nGluten free and vegan guests are catered for. Children and Dogs welcomed.
URL:https://britishciderweek.org.uk/event/cider-and-crepe-night/
LOCATION:Find and Foster\, Huxham Barns\, Huxham\, Devon\, EX5 4EJ\, United Kingdom
ATTACH;FMTTYPE=image/jpeg:https://britishciderweek.org.uk/wp-content/uploads/2023/03/FindFoster.jpg
GEO:50.771849;-3.499118
X-APPLE-STRUCTURED-LOCATION;VALUE=URI;X-ADDRESS=Find and Foster Huxham Barns Huxham Devon EX5 4EJ United Kingdom;X-APPLE-RADIUS=500;X-TITLE=Huxham Barns:geo:-3.499118,50.771849
END:VEVENT
END:VCALENDAR